BEGIN:VCALENDAR
VERSION:2.0
PRODID:-//Manufacturers Association of Maine - ECPv6.15.20//NONSGML v1.0//EN
CALSCALE:GREGORIAN
METHOD:PUBLISH
X-WR-CALNAME:Manufacturers Association of Maine
X-ORIGINAL-URL:https://mainemfg.com
X-WR-CALDESC:Events for Manufacturers Association of Maine
REFRESH-INTERVAL;VALUE=DURATION:PT1H
X-Robots-Tag:noindex
X-PUBLISHED-TTL:PT1H
BEGIN:VTIMEZONE
TZID:America/New_York
BEGIN:DAYLIGHT
TZOFFSETFROM:-0500
TZOFFSETTO:-0400
TZNAME:EDT
DTSTART:20240310T070000
END:DAYLIGHT
BEGIN:STANDARD
TZOFFSETFROM:-0400
TZOFFSETTO:-0500
TZNAME:EST
DTSTART:20241103T060000
END:STANDARD
BEGIN:DAYLIGHT
TZOFFSETFROM:-0500
TZOFFSETTO:-0400
TZNAME:EDT
DTSTART:20250309T070000
END:DAYLIGHT
BEGIN:STANDARD
TZOFFSETFROM:-0400
TZOFFSETTO:-0500
TZNAME:EST
DTSTART:20251102T060000
END:STANDARD
BEGIN:DAYLIGHT
TZOFFSETFROM:-0500
TZOFFSETTO:-0400
TZNAME:EDT
DTSTART:20260308T070000
END:DAYLIGHT
BEGIN:STANDARD
TZOFFSETFROM:-0400
TZOFFSETTO:-0500
TZNAME:EST
DTSTART:20261101T060000
END:STANDARD
END:VTIMEZONE
BEGIN:VEVENT
DTSTART;TZID=America/New_York:20251203T170000
DTEND;TZID=America/New_York:20251204T160000
DTSTAMP:20260424T055245
CREATED:20251121T173844Z
LAST-MODIFIED:20251124T161559Z
UID:7603-1764781200-1764864000@mainemfg.com
SUMMARY:2025 IECG Winter Energy Conference
DESCRIPTION:Harraseeket Inn\, Freeport\, ME\nDecember 3rd 5:00PM-8:00PM\nDecember 4th 8:00am-4:00PM \nPlease join Industrial Energy Consumer Group and their Maine manufacturer cosponsors for their exciting Maine Energy Conference\, “How Will Maine Answer the Challenges: Energy Affordability\, Jobs and Climate”. \nJoin government\, nonprofit and industry leaders to take an unprecedented deep dive into Maine’s energy future to explore how to expeditiously and affordably achieve Maine’s economic and energy policies.  \nThis two-day event\, with an opening evening reception and dinner\, and then a full day with continental breakfast\, lunch and no registration fee\, features networking opportunities and an Energy Roundtable for full audience interaction. \nTo register please email John Wilkins at jwilkins@preti.com \nDecember 3rd Opening Reception and Speakers:\n-Invited Guest: The Hon. Janet Mills\, Governor of Maine\n-Keynote Address: The Hon. Mark Lawrence\, Senate Chair\, Joint Standing Committee on Energy\, Utilities\, and Technology \nDecember 4th Featured Panels Include:\n-What Drives Maine’s Electricity Costs? What should change?\n-Can Beneficial Electrification Reduce Costs and Achieve Maine’s Climate Goals?\n-The Imminent Energy Risks and Opportunities\n-Maine’s Energy Future\, In the Round
URL:https://mainemfg.com/event/2025-iecg-winter-energy-conference/
LOCATION:The Harraseeket Inn\, 162 Main St\, Freeport\, ME\, 04032\, United States
CATEGORIES:In Person Events
END:VEVENT
END:VCALENDAR