BEGIN:VCALENDAR
VERSION:2.0
PRODID:-//Manufacturers Association of Maine - ECPv6.15.20//NONSGML v1.0//EN
CALSCALE:GREGORIAN
METHOD:PUBLISH
X-ORIGINAL-URL:https://mainemfg.com
X-WR-CALDESC:Events for Manufacturers Association of Maine
REFRESH-INTERVAL;VALUE=DURATION:PT1H
X-Robots-Tag:noindex
X-PUBLISHED-TTL:PT1H
BEGIN:VTIMEZONE
TZID:America/New_York
BEGIN:DAYLIGHT
TZOFFSETFROM:-0500
TZOFFSETTO:-0400
TZNAME:EDT
DTSTART:20250309T070000
END:DAYLIGHT
BEGIN:STANDARD
TZOFFSETFROM:-0400
TZOFFSETTO:-0500
TZNAME:EST
DTSTART:20251102T060000
END:STANDARD
BEGIN:DAYLIGHT
TZOFFSETFROM:-0500
TZOFFSETTO:-0400
TZNAME:EDT
DTSTART:20260308T070000
END:DAYLIGHT
BEGIN:STANDARD
TZOFFSETFROM:-0400
TZOFFSETTO:-0500
TZNAME:EST
DTSTART:20261101T060000
END:STANDARD
BEGIN:DAYLIGHT
TZOFFSETFROM:-0500
TZOFFSETTO:-0400
TZNAME:EDT
DTSTART:20270314T070000
END:DAYLIGHT
BEGIN:STANDARD
TZOFFSETFROM:-0400
TZOFFSETTO:-0500
TZNAME:EST
DTSTART:20271107T060000
END:STANDARD
END:VTIMEZONE
BEGIN:VEVENT
DTSTART;VALUE=DATE:20260114
DTEND;VALUE=DATE:20260116
DTSTAMP:20260420T134300
CREATED:20250909T141156Z
LAST-MODIFIED:20250911T204656Z
UID:7310-1768348800-1768521599@mainemfg.com
SUMMARY:OSHA 10 Safety Training with Maine MEP
DESCRIPTION:Maine MEP and Safetyworks! are partnering to offer 10-hour General Industry Standards Safety training (OSHA 10) to manufacturing companies. This one-and-a-half day course teaches hazard identification and controls on a variety of general industry safety and health topics (29 CFR 1910). This is an entry-level course and attendees who complete this course will receive an OSHA 10-hour course completion certificate. \nWho should attend: \n1. For people new to safety and health\n2. Working knowledge of OSHA standards needed\n3. Managers or supervisors \nWhen: January 14th (8:30-4:30) and 15th (8:30-1:00) \, 2026 (January 16th – Snow day)\nWhere: SafetyWorks! Training Institute – Augusta\nCost: No-cost to attend/$10 for an OSHA 10 card \nTo register: email: Dawn McKenney (Dawn.L.McKenney@Maine.gov) and Mariah Cunningham-Knaus (mariahc@mainemep.org) with the subject line MaineMEP10 and provide the following information about the registrant: \nName\nCompany Name\nAddress\nPhone number\nEmail
URL:https://mainemfg.com/event/osha-10-safety-training-with-maine-mep/
CATEGORIES:In Person Events
ORGANIZER;CN="Maine MEP":MAILTO:buffyw@mainemep.org
END:VEVENT
BEGIN:VEVENT
DTSTART;TZID=America/New_York:20260114T073000
DTEND;TZID=America/New_York:20260114T103000
DTSTAMP:20260420T134300
CREATED:20251224T161017Z
LAST-MODIFIED:20251224T161249Z
UID:7626-1768375800-1768386600@mainemfg.com
SUMMARY:Mainebiz Five On The Future Forum 2026
DESCRIPTION:Join Mainebiz as they take a look at Maine’s future economy by identifying leading economic indicators\, opportunities\, and challenges for 2026. \nThis year’s Five on the Future Forum will provide attendees with key insights into Maine’s economic landscape as well as the opportunities and challenges ahead in 2026. \nThe program will begin with their keynote speaker Amanda Rector\, Maine State Economist. Amanda will provide a forecast for 2026 and for the state of Maine\, as it relates to national trends. Then hear from a panel of Maine CEOs and leaders including MAME’s Executive Director\, John Lewis\, as they address four indicating industries and how they see the marketplace performing in 2026. \nRegistration: $55\nRegister here.
URL:https://mainemfg.com/event/mainebiz-five-on-the-future-forum-2026/
LOCATION:DoubleTree by Hilton Hotel Portland\, ME\, 363 Maine Mall Rd\, South Portland\, ME\, 04106
CATEGORIES:In Person Events
END:VEVENT
BEGIN:VEVENT
DTSTART;TZID=America/New_York:20260115T173000
DTEND;TZID=America/New_York:20260115T190000
DTSTAMP:20260420T134300
CREATED:20260113T171748Z
LAST-MODIFIED:20260113T171748Z
UID:7644-1768498200-1768503600@mainemfg.com
SUMMARY:E2Tech 2026 Townhall
DESCRIPTION:At the E2Tech Town Hall\, they will discuss what are the biggest challenges and opportunities in the environmental and energy technology sectors in 2026 as well as what resources are available to help navigate them. They will hear from a panel of experts\, but just as important\, this is an opportunity for E2Tech members to share their perspectives and what actions we can take together for a successful 2026 and beyond.  \nThe Town Hall will be held at South Portland High School lecture hall (637 Highland Ave\, South Portland\, ME 04106) from 5:30-7pm (doors open at 5:00pm). Panelists include Dan Burgess of Maine Department of Energy Resources\, Michael Stoddard of Efficiency Maine\, Emily Wood of Coastal Enterprises Inc. (CEI)\, and more. \nSouth Portland High School\n637 Highland Ave\nSouth Portland\, ME 04106 \nRegister Here
URL:https://mainemfg.com/event/e2tech-2026-townhall/
CATEGORIES:In Person Events
END:VEVENT
END:VCALENDAR