BEGIN:VCALENDAR
VERSION:2.0
PRODID:-//Manufacturers Association of Maine - ECPv6.15.20//NONSGML v1.0//EN
CALSCALE:GREGORIAN
METHOD:PUBLISH
X-ORIGINAL-URL:https://mainemfg.com
X-WR-CALDESC:Events for Manufacturers Association of Maine
REFRESH-INTERVAL;VALUE=DURATION:PT1H
X-Robots-Tag:noindex
X-PUBLISHED-TTL:PT1H
BEGIN:VTIMEZONE
TZID:America/New_York
BEGIN:DAYLIGHT
TZOFFSETFROM:-0500
TZOFFSETTO:-0400
TZNAME:EDT
DTSTART:20250309T070000
END:DAYLIGHT
BEGIN:STANDARD
TZOFFSETFROM:-0400
TZOFFSETTO:-0500
TZNAME:EST
DTSTART:20251102T060000
END:STANDARD
BEGIN:DAYLIGHT
TZOFFSETFROM:-0500
TZOFFSETTO:-0400
TZNAME:EDT
DTSTART:20260308T070000
END:DAYLIGHT
BEGIN:STANDARD
TZOFFSETFROM:-0400
TZOFFSETTO:-0500
TZNAME:EST
DTSTART:20261101T060000
END:STANDARD
BEGIN:DAYLIGHT
TZOFFSETFROM:-0500
TZOFFSETTO:-0400
TZNAME:EDT
DTSTART:20270314T070000
END:DAYLIGHT
BEGIN:STANDARD
TZOFFSETFROM:-0400
TZOFFSETTO:-0500
TZNAME:EST
DTSTART:20271107T060000
END:STANDARD
END:VTIMEZONE
BEGIN:VEVENT
DTSTART;TZID=America/New_York:20260203T080000
DTEND;TZID=America/New_York:20260203T170000
DTSTAMP:20260420T132919
CREATED:20260113T171036Z
LAST-MODIFIED:20260113T171145Z
UID:7642-1770105600-1770138000@mainemfg.com
SUMMARY:2026 Annual Labor and Employment Law Update
DESCRIPTION:On February 3\, Verrill hosts its 2026 Labor & Employment Annual Update\, a full-day program addressing the most common questions from employers and HR professionals as they enter the new year. \nSessions cover coordinating Maine’s new Paid Family and Medical Leave (PFML) with FMLA\, sick leave\, and related policies; updating employment and separation agreements amid noncompete trends; practical HR data handling from collection through audits; and key 2026 risks\, including immigration\, DEI\, OSHA\, and benefits. \nWhether revising handbooks or preparing for PFML\, this structured overview provides immediate guidance for implementation.\nTo view additional details and register\, please click the links below. \nRSVP Here
URL:https://mainemfg.com/event/2026-annual-labor-and-employment-law-update/
LOCATION:Holiday Inn By the Bay\, 88 Spring St\, Portland\, ME\, 04101\, United States
CATEGORIES:In Person Events
ORGANIZER;CN="Verrill":MAILTO:events@verrill-law.com
END:VEVENT
END:VCALENDAR